BEGIN:VCALENDAR
VERSION:2.0
PRODID:-//leperray.fr - ECPv6.15.20//NONSGML v1.0//EN
CALSCALE:GREGORIAN
METHOD:PUBLISH
X-ORIGINAL-URL:https://leperray.fr
X-WR-CALDESC:Évènements pour leperray.fr
REFRESH-INTERVAL;VALUE=DURATION:PT1H
X-Robots-Tag:noindex
X-PUBLISHED-TTL:PT1H
BEGIN:VTIMEZONE
TZID:Europe/Paris
BEGIN:DAYLIGHT
TZOFFSETFROM:+0100
TZOFFSETTO:+0200
TZNAME:CEST
DTSTART:20250330T010000
END:DAYLIGHT
BEGIN:STANDARD
TZOFFSETFROM:+0200
TZOFFSETTO:+0100
TZNAME:CET
DTSTART:20251026T010000
END:STANDARD
BEGIN:DAYLIGHT
TZOFFSETFROM:+0100
TZOFFSETTO:+0200
TZNAME:CEST
DTSTART:20260329T010000
END:DAYLIGHT
BEGIN:STANDARD
TZOFFSETFROM:+0200
TZOFFSETTO:+0100
TZNAME:CET
DTSTART:20261025T010000
END:STANDARD
BEGIN:DAYLIGHT
TZOFFSETFROM:+0100
TZOFFSETTO:+0200
TZNAME:CEST
DTSTART:20270328T010000
END:DAYLIGHT
BEGIN:STANDARD
TZOFFSETFROM:+0200
TZOFFSETTO:+0100
TZNAME:CET
DTSTART:20271031T010000
END:STANDARD
END:VTIMEZONE
BEGIN:VEVENT
DTSTART;TZID=Europe/Paris:20260607T100000
DTEND;TZID=Europe/Paris:20260607T180000
DTSTAMP:20260425T000449
CREATED:20260424T121701Z
LAST-MODIFIED:20260424T121701Z
UID:16046-1780826400-1780855200@leperray.fr
SUMMARY:Perray Rétromobile
DESCRIPTION:Au Perray-en-Yvelines\, l’événement Le Perray Rétro Mobile s’impose comme un rendez-vous incontournable pour les passionnés d’automobile ancienne et les amateurs d’ambiances rétro. Organisée avec la participation du Club Mercedes-Benz France\, cette manifestation célèbre les véhicules de collection dans un cadre à la fois authentique et convivial. \nUne exposition au cœur de la ville \nLe 7 juin\, de 10h à 18h\, le parc municipal et le centre-ville se transforment en véritable musée à ciel ouvert. Les visiteurs peuvent y découvrir une sélection de voitures anciennes soigneusement entretenues\, allant des modèles emblématiques aux raretés plus confidentielles. Chaque véhicule\, témoin d’une époque\, attire les regards et suscite la curiosité. \nLes propriétaires\, souvent membres de clubs ou collectionneurs passionnés\, sont présents pour échanger avec le public et partager l’histoire de leurs automobiles. \nUn programme festif et rythmé \nAu-delà de l’exposition\, Le Perray Rétro Mobile propose une véritable immersion dans l’ambiance des années passées grâce à un programme d’animations varié. \nAu programme : \n\nExposition de voitures anciennes dans le parc et le centre-ville\nDémonstrations de danse country avec l’association Country RN 10 qui invitent petits et grands à participer\nConcert de rockabilly à 16h\, pour une ambiance vintage garantie\nUne prestation du groupe Lec and the Sixties\, qui fait revivre les grands classiques du rock des années 60\n\nConvivialité et gourmandise \nPour prolonger le plaisir\, une restauration et une buvette seront proposées sur place\, permettant aux visiteurs de profiter pleinement de la journée dans une ambiance chaleureuse et détendue. \nLa passion du Club Mercedes-Benz France \nLa présence du Club Mercedes-Benz France apporte une dimension supplémentaire à l’événement. Ses membres exposent des modèles emblématiques de la marque\, témoignant de l’élégance et de l’ingénierie qui ont marqué l’histoire automobile. \nUn rendez-vous à ne pas manquer \nLe Perray Rétro Mobile ne se limite pas à une simple exposition : c’est une véritable fête populaire où se mêlent passion\, découverte et convivialité. Que l’on soit amateur de belles mécaniques ou simplement curieux\, chacun y trouve son compte.
URL:https://leperray.fr/agenda/perray-retromobile/
LOCATION:Parc Municipal\, Allée des Tilleuls Argentés\, Le Perray-en-Yvelines\, 78610
ATTACH;FMTTYPE=image/jpeg:https://leperray.fr/wp-content/uploads/2026/04/Affiche_Perray-Retromobile.jpg
END:VEVENT
END:VCALENDAR