BEGIN:VCALENDAR
VERSION:2.0
PRODID:-//leperray.fr - ECPv6.15.20//NONSGML v1.0//EN
CALSCALE:GREGORIAN
METHOD:PUBLISH
X-ORIGINAL-URL:https://leperray.fr
X-WR-CALDESC:Évènements pour leperray.fr
REFRESH-INTERVAL;VALUE=DURATION:PT1H
X-Robots-Tag:noindex
X-PUBLISHED-TTL:PT1H
BEGIN:VTIMEZONE
TZID:Europe/Paris
BEGIN:DAYLIGHT
TZOFFSETFROM:+0100
TZOFFSETTO:+0200
TZNAME:CEST
DTSTART:20250330T010000
END:DAYLIGHT
BEGIN:STANDARD
TZOFFSETFROM:+0200
TZOFFSETTO:+0100
TZNAME:CET
DTSTART:20251026T010000
END:STANDARD
BEGIN:DAYLIGHT
TZOFFSETFROM:+0100
TZOFFSETTO:+0200
TZNAME:CEST
DTSTART:20260329T010000
END:DAYLIGHT
BEGIN:STANDARD
TZOFFSETFROM:+0200
TZOFFSETTO:+0100
TZNAME:CET
DTSTART:20261025T010000
END:STANDARD
BEGIN:DAYLIGHT
TZOFFSETFROM:+0100
TZOFFSETTO:+0200
TZNAME:CEST
DTSTART:20270328T010000
END:DAYLIGHT
BEGIN:STANDARD
TZOFFSETFROM:+0200
TZOFFSETTO:+0100
TZNAME:CET
DTSTART:20271031T010000
END:STANDARD
END:VTIMEZONE
BEGIN:VEVENT
DTSTART;TZID=Europe/Paris:20260606T183000
DTEND;TZID=Europe/Paris:20260606T230000
DTSTAMP:20260425T000828
CREATED:20260424T120601Z
LAST-MODIFIED:20260424T120601Z
UID:16042-1780770600-1780786800@leperray.fr
SUMMARY:Banquet des Perrotins
DESCRIPTION:La Ville du Perray-en-Yvelines lance un tout nouvel événement festif : le Banquet des Perrotins\, qui se tiendra le samedi 6 juin à partir de 18h30\, dans le centre-ville. Une soirée placée sous le signe du partage et de la convivialité\, à laquelle tous les habitants sont invités. \nPour l’occasion\, la Ville propose un repas festif avec\, au menu : un apéritif offert par la municipalité\, suivi d’un plat (poulet vallée d’Auge et ses accompagnements)\, d’un dessert\, ainsi que des boissons (vin et softs). \nLes tarifs sont accessibles à tous : 17 € pour les adultes et 10 € pour les enfants. \nAu-delà du repas\, la soirée sera rythmée par une animation musicale\, ainsi que des jeux et défis en famille\, pour faire de ce moment un véritable temps de rencontre entre habitants. \nLa participation se fait sur réservation obligatoire jusqu’au 28 mai\, via la plateforme Billetweb en cliquant ici. \nAvec ce nouveau rendez-vous\, la Ville du Perray souhaite créer un moment chaleureux et fédérateur\, réunissant les habitants autour d’une grande table en plein cœur de la ville.
URL:https://leperray.fr/agenda/banquet-des-perrotins/
LOCATION:Parc Municipal\, Allée des Tilleuls Argentés\, Le Perray-en-Yvelines\, 78610
ATTACH;FMTTYPE=image/jpeg:https://leperray.fr/wp-content/uploads/2026/04/affiche-Banquet-BD.jpg
END:VEVENT
END:VCALENDAR