BEGIN:VCALENDAR
VERSION:2.0
PRODID:-//leperray.fr - ECPv6.15.20//NONSGML v1.0//EN
CALSCALE:GREGORIAN
METHOD:PUBLISH
X-WR-CALNAME:leperray.fr
X-ORIGINAL-URL:https://leperray.fr
X-WR-CALDESC:Évènements pour leperray.fr
REFRESH-INTERVAL;VALUE=DURATION:PT1H
X-Robots-Tag:noindex
X-PUBLISHED-TTL:PT1H
BEGIN:VTIMEZONE
TZID:Europe/Paris
BEGIN:DAYLIGHT
TZOFFSETFROM:+0100
TZOFFSETTO:+0200
TZNAME:CEST
DTSTART:20250330T010000
END:DAYLIGHT
BEGIN:STANDARD
TZOFFSETFROM:+0200
TZOFFSETTO:+0100
TZNAME:CET
DTSTART:20251026T010000
END:STANDARD
BEGIN:DAYLIGHT
TZOFFSETFROM:+0100
TZOFFSETTO:+0200
TZNAME:CEST
DTSTART:20260329T010000
END:DAYLIGHT
BEGIN:STANDARD
TZOFFSETFROM:+0200
TZOFFSETTO:+0100
TZNAME:CET
DTSTART:20261025T010000
END:STANDARD
BEGIN:DAYLIGHT
TZOFFSETFROM:+0100
TZOFFSETTO:+0200
TZNAME:CEST
DTSTART:20270328T010000
END:DAYLIGHT
BEGIN:STANDARD
TZOFFSETFROM:+0200
TZOFFSETTO:+0100
TZNAME:CET
DTSTART:20271031T010000
END:STANDARD
END:VTIMEZONE
BEGIN:VEVENT
DTSTART;TZID=Europe/Paris:20260422T163000
DTEND;TZID=Europe/Paris:20260422T180000
DTSTAMP:20260422T121205
CREATED:20260316T110912Z
LAST-MODIFIED:20260316T110912Z
UID:15934-1776875400-1776880800@leperray.fr
SUMMARY:Spectacle jeune public "Extra-dimensionnel"
DESCRIPTION:Spectacle jeune public « Extra-dimensionnel » \nLes frères Jarry vous transportent dans une autre dimension avec leur spectacle « Extra-dimensionnel »\nAprès avoir enflammé la Mare au Loup l’année dernière avec leur spectacle musical « Queen / Elton »\, les frères Jarry emmènent\, cette fois-ci\, les enfants dans une autre dimension ! Dans leur précédent spectacle\, le Professeur S’Cool et le Docteur Thomas Jefferson Jarry surgissaient de 1989 à bord de leur machine à voyager dans le temps.\nPour cette nouvelle saison\, l’incroyable duo scientifico-rock’n roll vous entraîne dans une aventure inédite : la découverte d’un mystérieux portail menant vers une autre dimension !\nUn spectacle plein d’humour\, de musique et d’effets spéciaux\, avec sur scène…une soucoupe volante ! \n➤ Mercredi 22 avril à 16h30\nSalle des fête de la Mare au Loup\, 14 rue de Houdan\n78610 Le Perray-en-Yvelines\n➤ Tarif adulte : 10 € – moins de 15 ans : 5 €\nInfos et réservation\nhttps://www.billetweb.fr/extra-dimensionnel
URL:https://leperray.fr/agenda/spectacle-jeune-public-extra-dimensionnel/
LOCATION:Mare au loup\, 14 rue de houdan\, Le Perray-en-Yvelines\, 78610
ATTACH;FMTTYPE=image/jpeg:https://leperray.fr/wp-content/uploads/2026/03/p.-25-AFFICHE-SPECTACLE-ENFANTS.jpg
END:VEVENT
END:VCALENDAR